BEGIN:VCALENDAR
VERSION:2.0
PRODID:-//Dharma Course - ECPv6.11.2.1//NONSGML v1.0//EN
CALSCALE:GREGORIAN
METHOD:PUBLISH
X-ORIGINAL-URL:https://dharmacourse.com
X-WR-CALDESC:Events for Dharma Course
REFRESH-INTERVAL;VALUE=DURATION:PT1H
X-Robots-Tag:noindex
X-PUBLISHED-TTL:PT1H
BEGIN:VTIMEZONE
TZID:Asia/Krasnoyarsk
BEGIN:STANDARD
TZOFFSETFROM:+0700
TZOFFSETTO:+0700
TZNAME:+07
DTSTART:20240101T000000
END:STANDARD
END:VTIMEZONE
BEGIN:VEVENT
DTSTART;TZID=Asia/Krasnoyarsk:20241201T150000
DTEND;TZID=Asia/Krasnoyarsk:20241204T180000
DTSTAMP:20260423T021540
CREATED:20241023T170914Z
LAST-MODIFIED:20250920T061953Z
UID:2063-1733065200-1733335200@dharmacourse.com
SUMMARY:Three-Day Silent Meditation Retreat
DESCRIPTION:🎶 Oneness Music Concert for World Peace 🎶 \nThis Christmas\, join us for a magical afternoon of harmony and serenity at our Oneness Music Concert. Let the universal language of music bring us together in unity and peace for the world. \nExperience soul-stirring performances featuring meditative melodies\, sacred chants\, and inspiring compositions that resonate with the spirit of peace and compassion. \n✨ Highlights: \n\nLive instrumental and vocal performances\nGuided moment of collective prayer for world peace\nA serene atmosphere to reflect and connect\n\nThis event is open to all who wish to celebrate Christmas in a meaningful and uplifting way. \n \n\n\n🕊️ Theme: Oneness for World Peace📅 Date: December 25th🕒 Time: 3:00 PM – 5:00 PM📍 Venue: Dharma Course Meditation Center\, Hang Dong\, Chiang Mai\, Thailand \nAdmission: Free of charge (Donations are welcome to support our peace initiatives) \nRegistration Form: https://forms.gle/z23YBz1aQQxpnQK47 \n💌 Reserve your spot now by contacting us at +66 90 963 7808 or co*****@**********se.comLet us come together this Christmas to celebrate oneness and spread the light of peace across the world. 🌏✨
URL:https://dharmacourse.com/event/three-day-silent-meditation-retreat/
LOCATION:Dharma Course\, Dharma Course\, Chiang Mai\, Chiang Mai\, 50230\, Thailand
ORGANIZER;CN="Dharma Course":MAILTO:contact@dharmacourse.com
END:VEVENT
BEGIN:VEVENT
DTSTART;TZID=Asia/Krasnoyarsk:20241101T150000
DTEND;TZID=Asia/Krasnoyarsk:20241104T180000
DTSTAMP:20260423T021540
CREATED:20241027T074119Z
LAST-MODIFIED:20250920T062000Z
UID:2102-1730473200-1730743200@dharmacourse.com
SUMMARY:Three-Day Silent Meditation Retreat Nov 1-3
DESCRIPTION:🎶 Oneness Music Concert for World Peace 🎶 \nThis Christmas\, join us for a magical afternoon of harmony and serenity at our Oneness Music Concert. Let the universal language of music bring us together in unity and peace for the world. \nExperience soul-stirring performances featuring meditative melodies\, sacred chants\, and inspiring compositions that resonate with the spirit of peace and compassion. \n✨ Highlights: \n\nLive instrumental and vocal performances\nGuided moment of collective prayer for world peace\nA serene atmosphere to reflect and connect\n\nThis event is open to all who wish to celebrate Christmas in a meaningful and uplifting way. \n \n\n\n🕊️ Theme: Oneness for World Peace📅 Date: December 25th🕒 Time: 3:00 PM – 5:00 PM📍 Venue: Dharma Course Meditation Center\, Hang Dong\, Chiang Mai\, Thailand \nAdmission: Free of charge (Donations are welcome to support our peace initiatives) \nRegistration Form: https://forms.gle/z23YBz1aQQxpnQK47 \n💌 Reserve your spot now by contacting us at +66 90 963 7808 or co*****@**********se.comLet us come together this Christmas to celebrate oneness and spread the light of peace across the world. 🌏✨
URL:https://dharmacourse.com/event/three-day-silent-meditation-retreat-nov-1-3/
LOCATION:Dharma Course\, Dharma Course\, Chiang Mai\, Chiang Mai\, 50230\, Thailand
ATTACH;FMTTYPE=image/jpeg:https://dharmacourse.com/wp-content/uploads/2024/10/nov-retreat.jpg
ORGANIZER;CN="Dharma Course":MAILTO:contact@dharmacourse.com
END:VEVENT
BEGIN:VEVENT
DTSTART;TZID=Asia/Krasnoyarsk:20241026T090000
DTEND;TZID=Asia/Krasnoyarsk:20241026T110000
DTSTAMP:20260423T021540
CREATED:20241023T173724Z
LAST-MODIFIED:20250920T062006Z
UID:2080-1729933200-1729940400@dharmacourse.com
SUMMARY:Saturday Reading Club - Do a Good Karma\, Help Someone in Need
DESCRIPTION:🎶 Oneness Music Concert for World Peace 🎶 \nThis Christmas\, join us for a magical afternoon of harmony and serenity at our Oneness Music Concert. Let the universal language of music bring us together in unity and peace for the world. \nExperience soul-stirring performances featuring meditative melodies\, sacred chants\, and inspiring compositions that resonate with the spirit of peace and compassion. \n✨ Highlights: \n\nLive instrumental and vocal performances\nGuided moment of collective prayer for world peace\nA serene atmosphere to reflect and connect\n\nThis event is open to all who wish to celebrate Christmas in a meaningful and uplifting way. \n \n\n\n🕊️ Theme: Oneness for World Peace📅 Date: December 25th🕒 Time: 3:00 PM – 5:00 PM📍 Venue: Dharma Course Meditation Center\, Hang Dong\, Chiang Mai\, Thailand \nAdmission: Free of charge (Donations are welcome to support our peace initiatives) \nRegistration Form: https://forms.gle/z23YBz1aQQxpnQK47 \n💌 Reserve your spot now by contacting us at +66 90 963 7808 or co*****@**********se.comLet us come together this Christmas to celebrate oneness and spread the light of peace across the world. 🌏✨
URL:https://dharmacourse.com/event/event-saturday-reading-club-do-a-good-karma-help-someone-in-need/
LOCATION:Dharma Course\, Dharma Course\, Chiang Mai\, Chiang Mai\, 50230\, Thailand
ATTACH;FMTTYPE=image/jpeg:https://dharmacourse.com/wp-content/uploads/2024/10/Bliss-House-Chiang-Mai-Poster-Reading-Event.jpg
ORGANIZER;CN="Dharma Course":MAILTO:contact@dharmacourse.com
END:VEVENT
BEGIN:VEVENT
DTSTART;TZID=Asia/Krasnoyarsk:20241008T090000
DTEND;TZID=Asia/Krasnoyarsk:20241008T170000
DTSTAMP:20260423T021540
CREATED:20241023T173821Z
LAST-MODIFIED:20250920T062013Z
UID:2082-1728378000-1728406800@dharmacourse.com
SUMMARY:One Day to Boost Energy Level - ONE DAY ZEN
DESCRIPTION:🎶 Oneness Music Concert for World Peace 🎶 \nThis Christmas\, join us for a magical afternoon of harmony and serenity at our Oneness Music Concert. Let the universal language of music bring us together in unity and peace for the world. \nExperience soul-stirring performances featuring meditative melodies\, sacred chants\, and inspiring compositions that resonate with the spirit of peace and compassion. \n✨ Highlights: \n\nLive instrumental and vocal performances\nGuided moment of collective prayer for world peace\nA serene atmosphere to reflect and connect\n\nThis event is open to all who wish to celebrate Christmas in a meaningful and uplifting way. \n \n\n\n🕊️ Theme: Oneness for World Peace📅 Date: December 25th🕒 Time: 3:00 PM – 5:00 PM📍 Venue: Dharma Course Meditation Center\, Hang Dong\, Chiang Mai\, Thailand \nAdmission: Free of charge (Donations are welcome to support our peace initiatives) \nRegistration Form: https://forms.gle/z23YBz1aQQxpnQK47 \n💌 Reserve your spot now by contacting us at +66 90 963 7808 or co*****@**********se.comLet us come together this Christmas to celebrate oneness and spread the light of peace across the world. 🌏✨
URL:https://dharmacourse.com/event/event-one-day-to-boost-energy-level-one-day-zen/
LOCATION:Dharma Course\, Dharma Course\, Chiang Mai\, Chiang Mai\, 50230\, Thailand
ATTACH;FMTTYPE=image/jpeg:https://dharmacourse.com/wp-content/uploads/2024/09/WhatsApp-Image-2024-10-19-at-5.52.49-PM.jpeg
ORGANIZER;CN="Dharma Course":MAILTO:contact@dharmacourse.com
END:VEVENT
END:VCALENDAR