BEGIN:VCALENDAR
VERSION:2.0
PRODID:-//Dharma Course - ECPv6.11.2.1//NONSGML v1.0//EN
CALSCALE:GREGORIAN
METHOD:PUBLISH
X-WR-CALNAME:Dharma Course
X-ORIGINAL-URL:https://dharmacourse.com
X-WR-CALDESC:Events for Dharma Course
REFRESH-INTERVAL;VALUE=DURATION:PT1H
X-Robots-Tag:noindex
X-PUBLISHED-TTL:PT1H
BEGIN:VTIMEZONE
TZID:Asia/Krasnoyarsk
BEGIN:STANDARD
TZOFFSETFROM:+0700
TZOFFSETTO:+0700
TZNAME:+07
DTSTART:20240101T000000
END:STANDARD
END:VTIMEZONE
BEGIN:VEVENT
DTSTART;TZID=Asia/Krasnoyarsk:20250513T090000
DTEND;TZID=Asia/Krasnoyarsk:20250520T170000
DTSTAMP:20260423T003218
CREATED:20250416T054304Z
LAST-MODIFIED:20250416T055317Z
UID:2621-1747126800-1747760400@dharmacourse.com
SUMMARY:Meditation Retreat | May 13–20\, 2025 | 2025|  Inner Fire & the Path of Bodhicitta
DESCRIPTION:    If in this lifetime there are no immediate karmic consequences of heavy virtuous or non-virtuous actions\, then the experiences and circumstances of this life are mostly influenced by past life karma. Therefore\, instead of indulging in fantasies or complaints\, one should analyze the causes of the defects in this life\, thereby refraining from evil and doing good\, thus creating opportunities for happiness in this life and the next.    ONE DAY ZEN | Event in Chiang Mai Website: https://dharmacourse.com/Instagram: https://www.instagram.com/dharmacourse/Facebook: https://www.facebook.com/BlissHouseChiangmaiMeditation
URL:https://dharmacourse.com/event/meditation-retreat-may-13-20-2025-2025-inner-fire-the-path-of-bodhicitta/
LOCATION:Dharma Course\, Dharma Course\, Chiang Mai\, Chiang Mai\, 50230\, Thailand
ATTACH;FMTTYPE=image/jpeg:https://dharmacourse.com/wp-content/uploads/2025/04/490997646_122155310774569059_5729402133393723867_n.jpg
ORGANIZER;CN="Dharma Course":MAILTO:contact@dharmacourse.com
END:VEVENT
BEGIN:VEVENT
DTSTART;TZID=Asia/Krasnoyarsk:20250430T000000
DTEND;TZID=Asia/Krasnoyarsk:20250504T000000
DTSTAMP:20260423T003218
CREATED:20250416T054729Z
LAST-MODIFIED:20250416T054729Z
UID:2624-1745971200-1746316800@dharmacourse.com
SUMMARY:2025泰国清迈第二场即将开启！诚邀与各领域朋友一起来开启这场智慧盛宴！
DESCRIPTION:    If in this lifetime there are no immediate karmic consequences of heavy virtuous or non-virtuous actions\, then the experiences and circumstances of this life are mostly influenced by past life karma. Therefore\, instead of indulging in fantasies or complaints\, one should analyze the causes of the defects in this life\, thereby refraining from evil and doing good\, thus creating opportunities for happiness in this life and the next.    ONE DAY ZEN | Event in Chiang Mai Website: https://dharmacourse.com/Instagram: https://www.instagram.com/dharmacourse/Facebook: https://www.facebook.com/BlissHouseChiangmaiMeditation
URL:https://dharmacourse.com/event/2025%e6%b3%b0%e5%9b%bd%e6%b8%85%e8%bf%88%e7%ac%ac%e4%ba%8c%e5%9c%ba%e5%8d%b3%e5%b0%86%e5%bc%80%e5%90%af%ef%bc%81%e8%af%9a%e9%82%80%e4%b8%8e%e5%90%84%e9%a2%86%e5%9f%9f%e6%9c%8b%e5%8f%8b%e4%b8%80/
LOCATION:Dharma Course\, Dharma Course\, Chiang Mai\, Chiang Mai\, 50230\, Thailand
ATTACH;FMTTYPE=image/jpeg:https://dharmacourse.com/wp-content/uploads/2025/04/479521471_122159292806298300_5634548875060696109_n.jpg
ORGANIZER;CN="Dharma Course":MAILTO:contact@dharmacourse.com
END:VEVENT
BEGIN:VEVENT
DTSTART;VALUE=DATE:20250423
DTEND;VALUE=DATE:20250424
DTSTAMP:20260423T003218
CREATED:20250416T063404Z
LAST-MODIFIED:20250416T064055Z
UID:2642-1745366400-1745452799@dharmacourse.com
SUMMARY:One Day Zen | Wednesday
DESCRIPTION:    If in this lifetime there are no immediate karmic consequences of heavy virtuous or non-virtuous actions\, then the experiences and circumstances of this life are mostly influenced by past life karma. Therefore\, instead of indulging in fantasies or complaints\, one should analyze the causes of the defects in this life\, thereby refraining from evil and doing good\, thus creating opportunities for happiness in this life and the next.    ONE DAY ZEN | Event in Chiang Mai Website: https://dharmacourse.com/Instagram: https://www.instagram.com/dharmacourse/Facebook: https://www.facebook.com/BlissHouseChiangmaiMeditation
URL:https://dharmacourse.com/event/one-day-zen-wednesday/
LOCATION:Dharma Course\, Dharma Course\, Chiang Mai\, Chiang Mai\, 50230\, Thailand
ORGANIZER;CN="Dharma Course":MAILTO:contact@dharmacourse.com
END:VEVENT
BEGIN:VEVENT
DTSTART;TZID=Asia/Krasnoyarsk:20250402T090000
DTEND;TZID=Asia/Krasnoyarsk:20250407T090000
DTSTAMP:20260423T003218
CREATED:20250331T062148Z
LAST-MODIFIED:20250331T062746Z
UID:2591-1743584400-1744016400@dharmacourse.com
SUMMARY:Five-Day Meditation Retreat | 2nd - 7th April |  Death Bardo and Liberation
DESCRIPTION:    If in this lifetime there are no immediate karmic consequences of heavy virtuous or non-virtuous actions\, then the experiences and circumstances of this life are mostly influenced by past life karma. Therefore\, instead of indulging in fantasies or complaints\, one should analyze the causes of the defects in this life\, thereby refraining from evil and doing good\, thus creating opportunities for happiness in this life and the next.    ONE DAY ZEN | Event in Chiang Mai Website: https://dharmacourse.com/Instagram: https://www.instagram.com/dharmacourse/Facebook: https://www.facebook.com/BlissHouseChiangmaiMeditation
URL:https://dharmacourse.com/event/five-day-meditation-retreat-2nd-7th-april-death-bardo-and-liberation-2/
LOCATION:Dharma Course\, Dharma Course\, Chiang Mai\, Chiang Mai\, 50230\, Thailand
ATTACH;FMTTYPE=image/jpeg:https://dharmacourse.com/wp-content/uploads/2025/03/483527989_122163615068298300_1219377997549610004_n-1.jpg
ORGANIZER;CN="Dharma Course":MAILTO:contact@dharmacourse.com
END:VEVENT
BEGIN:VEVENT
DTSTART;TZID=Asia/Krasnoyarsk:20250303T090000
DTEND;TZID=Asia/Krasnoyarsk:20250305T170000
DTSTAMP:20260423T003218
CREATED:20250219T062935Z
LAST-MODIFIED:20250219T062935Z
UID:2566-1740992400-1741194000@dharmacourse.com
SUMMARY:Three-Day Buddhist Meditation Retreat | 3rd - 5th March |  From Suffering to Liberation
DESCRIPTION:    If in this lifetime there are no immediate karmic consequences of heavy virtuous or non-virtuous actions\, then the experiences and circumstances of this life are mostly influenced by past life karma. Therefore\, instead of indulging in fantasies or complaints\, one should analyze the causes of the defects in this life\, thereby refraining from evil and doing good\, thus creating opportunities for happiness in this life and the next.    ONE DAY ZEN | Event in Chiang Mai Website: https://dharmacourse.com/Instagram: https://www.instagram.com/dharmacourse/Facebook: https://www.facebook.com/BlissHouseChiangmaiMeditation
URL:https://dharmacourse.com/event/three-day-buddhist-meditation-retreat-3rd-5th-march-from-suffering-to-liberation/
LOCATION:Dharma Course\, Dharma Course\, Chiang Mai\, Chiang Mai\, 50230\, Thailand
ATTACH;FMTTYPE=image/jpeg:https://dharmacourse.com/wp-content/uploads/2025/02/475734141_122157595916298300_3525412938440839872_n.jpg
ORGANIZER;CN="Dharma Course":MAILTO:contact@dharmacourse.com
END:VEVENT
BEGIN:VEVENT
DTSTART;TZID=Asia/Krasnoyarsk:20250209T150000
DTEND;TZID=Asia/Krasnoyarsk:20250213T180000
DTSTAMP:20260423T003218
CREATED:20250122T171226Z
LAST-MODIFIED:20250129T164908Z
UID:2508-1739113200-1739469600@dharmacourse.com
SUMMARY:JOURNEY TO MINDFULNESS Chiang Mai\, Thailand Feb 9-13
DESCRIPTION:    If in this lifetime there are no immediate karmic consequences of heavy virtuous or non-virtuous actions\, then the experiences and circumstances of this life are mostly influenced by past life karma. Therefore\, instead of indulging in fantasies or complaints\, one should analyze the causes of the defects in this life\, thereby refraining from evil and doing good\, thus creating opportunities for happiness in this life and the next.    ONE DAY ZEN | Event in Chiang Mai Website: https://dharmacourse.com/Instagram: https://www.instagram.com/dharmacourse/Facebook: https://www.facebook.com/BlissHouseChiangmaiMeditation
URL:https://dharmacourse.com/event/journey-to-mindfulness-chiang-mai-thailand-feb-9-13-2/
LOCATION:Dharma Course\, Dharma Course\, Chiang Mai\, Chiang Mai\, 50230\, Thailand
ATTACH;FMTTYPE=image/jpeg:https://dharmacourse.com/wp-content/uploads/2025/01/474267364_122135603654569059_716267551527633667_n.jpg
ORGANIZER;CN="Dharma Course":MAILTO:contact@dharmacourse.com
END:VEVENT
BEGIN:VEVENT
DTSTART;TZID=Asia/Krasnoyarsk:20250209T150000
DTEND;TZID=Asia/Krasnoyarsk:20250213T180000
DTSTAMP:20260423T003218
CREATED:20250106T073332Z
LAST-MODIFIED:20250129T164920Z
UID:2323-1739113200-1739469600@dharmacourse.com
SUMMARY:The Journey to Mindfulness
DESCRIPTION:    If in this lifetime there are no immediate karmic consequences of heavy virtuous or non-virtuous actions\, then the experiences and circumstances of this life are mostly influenced by past life karma. Therefore\, instead of indulging in fantasies or complaints\, one should analyze the causes of the defects in this life\, thereby refraining from evil and doing good\, thus creating opportunities for happiness in this life and the next.    ONE DAY ZEN | Event in Chiang Mai Website: https://dharmacourse.com/Instagram: https://www.instagram.com/dharmacourse/Facebook: https://www.facebook.com/BlissHouseChiangmaiMeditation
URL:https://dharmacourse.com/event/the-journey-to-mindfulness-2/
LOCATION:Dharma Course\, Dharma Course\, Chiang Mai\, Chiang Mai\, 50230\, Thailand
ATTACH;FMTTYPE=image/jpeg:https://dharmacourse.com/wp-content/uploads/2025/01/正念之旅海报1.jpg
ORGANIZER;CN="Dharma Course":MAILTO:contact@dharmacourse.com
END:VEVENT
BEGIN:VEVENT
DTSTART;TZID=Asia/Krasnoyarsk:20250201T090000
DTEND;TZID=Asia/Krasnoyarsk:20250203T170000
DTSTAMP:20260423T003218
CREATED:20250120T165548Z
LAST-MODIFIED:20250920T061934Z
UID:2482-1738400400-1738602000@dharmacourse.com
SUMMARY:Understanding Impermanence and Observation Practice - Three-Day Buddhist Meditation Retreat | 1 Feb - 3 Feb
DESCRIPTION:    If in this lifetime there are no immediate karmic consequences of heavy virtuous or non-virtuous actions\, then the experiences and circumstances of this life are mostly influenced by past life karma. Therefore\, instead of indulging in fantasies or complaints\, one should analyze the causes of the defects in this life\, thereby refraining from evil and doing good\, thus creating opportunities for happiness in this life and the next.    ONE DAY ZEN | Event in Chiang Mai Website: https://dharmacourse.com/Instagram: https://www.instagram.com/dharmacourse/Facebook: https://www.facebook.com/BlissHouseChiangmaiMeditation
URL:https://dharmacourse.com/event/understanding-impermanence-and-observation-practice-three-day-buddhist-meditation-retreat-1-feb-3-feb-2/
LOCATION:Dharma Course\, Dharma Course\, Chiang Mai\, Chiang Mai\, 50230\, Thailand
ATTACH;FMTTYPE=image/jpeg:https://dharmacourse.com/wp-content/uploads/2025/01/understanding.jpg
ORGANIZER;CN="Dharma Course":MAILTO:contact@dharmacourse.com
END:VEVENT
BEGIN:VEVENT
DTSTART;TZID=Asia/Krasnoyarsk:20250130T140000
DTEND;TZID=Asia/Krasnoyarsk:20250130T180000
DTSTAMP:20260423T003218
CREATED:20250122T171702Z
LAST-MODIFIED:20250920T061929Z
UID:2511-1738245600-1738260000@dharmacourse.com
SUMMARY:MUSIC CONCERT - Limited Free Tickets
DESCRIPTION:    If in this lifetime there are no immediate karmic consequences of heavy virtuous or non-virtuous actions\, then the experiences and circumstances of this life are mostly influenced by past life karma. Therefore\, instead of indulging in fantasies or complaints\, one should analyze the causes of the defects in this life\, thereby refraining from evil and doing good\, thus creating opportunities for happiness in this life and the next.    ONE DAY ZEN | Event in Chiang Mai Website: https://dharmacourse.com/Instagram: https://www.instagram.com/dharmacourse/Facebook: https://www.facebook.com/BlissHouseChiangmaiMeditation
URL:https://dharmacourse.com/event/music-concert-limited-free-tickets-2/
LOCATION:Dharma Course\, Dharma Course\, Chiang Mai\, Chiang Mai\, 50230\, Thailand
ATTACH;FMTTYPE=image/jpeg:https://dharmacourse.com/wp-content/uploads/2025/01/474379611_122135609312569059_1557172765809383312_n.jpg
ORGANIZER;CN="Dharma Course":MAILTO:contact@dharmacourse.com
END:VEVENT
BEGIN:VEVENT
DTSTART;TZID=Asia/Krasnoyarsk:20241231T170000
DTEND;TZID=Asia/Krasnoyarsk:20250103T170000
DTSTAMP:20260423T003218
CREATED:20241222T151832Z
LAST-MODIFIED:20250920T061924Z
UID:2281-1735664400-1735923600@dharmacourse.com
SUMMARY:Three-Day Buddhist Meditation Retreat | 31 Dec - 3 Jan
DESCRIPTION:    If in this lifetime there are no immediate karmic consequences of heavy virtuous or non-virtuous actions\, then the experiences and circumstances of this life are mostly influenced by past life karma. Therefore\, instead of indulging in fantasies or complaints\, one should analyze the causes of the defects in this life\, thereby refraining from evil and doing good\, thus creating opportunities for happiness in this life and the next.    ONE DAY ZEN | Event in Chiang Mai Website: https://dharmacourse.com/Instagram: https://www.instagram.com/dharmacourse/Facebook: https://www.facebook.com/BlissHouseChiangmaiMeditation
URL:https://dharmacourse.com/event/three-day-buddhist-meditation-retreat-31-dec-3-jan-2/
LOCATION:Dharma Course\, Dharma Course\, Chiang Mai\, Chiang Mai\, 50230\, Thailand
ATTACH;FMTTYPE=image/jpeg:https://dharmacourse.com/wp-content/uploads/2024/12/Mindfulness-for-Clarity-Meditation-Retreat-31-Dec-03-Jan.jpg
ORGANIZER;CN="Dharma Course":MAILTO:contact@dharmacourse.com
END:VEVENT
BEGIN:VEVENT
DTSTART;TZID=Asia/Krasnoyarsk:20241225T150000
DTEND;TZID=Asia/Krasnoyarsk:20241225T170000
DTSTAMP:20260423T003218
CREATED:20241222T152004Z
LAST-MODIFIED:20241222T152832Z
UID:2285-1735138800-1735146000@dharmacourse.com
SUMMARY:Music Concert - 'Oneness for World Peace' | Dec 25
DESCRIPTION:    If in this lifetime there are no immediate karmic consequences of heavy virtuous or non-virtuous actions\, then the experiences and circumstances of this life are mostly influenced by past life karma. Therefore\, instead of indulging in fantasies or complaints\, one should analyze the causes of the defects in this life\, thereby refraining from evil and doing good\, thus creating opportunities for happiness in this life and the next.    ONE DAY ZEN | Event in Chiang Mai Website: https://dharmacourse.com/Instagram: https://www.instagram.com/dharmacourse/Facebook: https://www.facebook.com/BlissHouseChiangmaiMeditation
URL:https://dharmacourse.com/event/music-concert-oneness-for-world-peace-dec-25-2/
LOCATION:Dharma Course\, Dharma Course\, Chiang Mai\, Chiang Mai\, 50230\, Thailand
ATTACH;FMTTYPE=image/jpeg:https://dharmacourse.com/wp-content/uploads/2024/12/Oneness-for-World-Peace-Music-Concert.jpg
ORGANIZER;CN="Dharma Course":MAILTO:contact@dharmacourse.com
END:VEVENT
BEGIN:VEVENT
DTSTART;TZID=Asia/Krasnoyarsk:20241213T000000
DTEND;TZID=Asia/Krasnoyarsk:20241215T000000
DTSTAMP:20260423T003218
CREATED:20241222T152205Z
LAST-MODIFIED:20250920T061950Z
UID:2287-1734048000-1734220800@dharmacourse.com
SUMMARY:Weekend Meditation Retreat Dec 13-15
DESCRIPTION:    If in this lifetime there are no immediate karmic consequences of heavy virtuous or non-virtuous actions\, then the experiences and circumstances of this life are mostly influenced by past life karma. Therefore\, instead of indulging in fantasies or complaints\, one should analyze the causes of the defects in this life\, thereby refraining from evil and doing good\, thus creating opportunities for happiness in this life and the next.    ONE DAY ZEN | Event in Chiang Mai Website: https://dharmacourse.com/Instagram: https://www.instagram.com/dharmacourse/Facebook: https://www.facebook.com/BlissHouseChiangmaiMeditation
URL:https://dharmacourse.com/event/weekend-meditation-retreat-dec-13-15-2/
LOCATION:Dharma Course\, Dharma Course\, Chiang Mai\, Chiang Mai\, 50230\, Thailand
ATTACH;FMTTYPE=image/jpeg:https://dharmacourse.com/wp-content/uploads/2024/12/13-15-December-Meditation-Retreat.jpg
ORGANIZER;CN="Dharma Course":MAILTO:contact@dharmacourse.com
END:VEVENT
BEGIN:VEVENT
DTSTART;TZID=Asia/Krasnoyarsk:20241201T150000
DTEND;TZID=Asia/Krasnoyarsk:20241204T180000
DTSTAMP:20260423T003218
CREATED:20241023T170914Z
LAST-MODIFIED:20250920T061953Z
UID:2063-1733065200-1733335200@dharmacourse.com
SUMMARY:Three-Day Silent Meditation Retreat
DESCRIPTION:    If in this lifetime there are no immediate karmic consequences of heavy virtuous or non-virtuous actions\, then the experiences and circumstances of this life are mostly influenced by past life karma. Therefore\, instead of indulging in fantasies or complaints\, one should analyze the causes of the defects in this life\, thereby refraining from evil and doing good\, thus creating opportunities for happiness in this life and the next.    ONE DAY ZEN | Event in Chiang Mai Website: https://dharmacourse.com/Instagram: https://www.instagram.com/dharmacourse/Facebook: https://www.facebook.com/BlissHouseChiangmaiMeditation
URL:https://dharmacourse.com/event/three-day-silent-meditation-retreat/
LOCATION:Dharma Course\, Dharma Course\, Chiang Mai\, Chiang Mai\, 50230\, Thailand
ORGANIZER;CN="Dharma Course":MAILTO:contact@dharmacourse.com
END:VEVENT
BEGIN:VEVENT
DTSTART;TZID=Asia/Krasnoyarsk:20241101T150000
DTEND;TZID=Asia/Krasnoyarsk:20241104T180000
DTSTAMP:20260423T003218
CREATED:20241027T074119Z
LAST-MODIFIED:20250920T062000Z
UID:2102-1730473200-1730743200@dharmacourse.com
SUMMARY:Three-Day Silent Meditation Retreat Nov 1-3
DESCRIPTION:    If in this lifetime there are no immediate karmic consequences of heavy virtuous or non-virtuous actions\, then the experiences and circumstances of this life are mostly influenced by past life karma. Therefore\, instead of indulging in fantasies or complaints\, one should analyze the causes of the defects in this life\, thereby refraining from evil and doing good\, thus creating opportunities for happiness in this life and the next.    ONE DAY ZEN | Event in Chiang Mai Website: https://dharmacourse.com/Instagram: https://www.instagram.com/dharmacourse/Facebook: https://www.facebook.com/BlissHouseChiangmaiMeditation
URL:https://dharmacourse.com/event/three-day-silent-meditation-retreat-nov-1-3/
LOCATION:Dharma Course\, Dharma Course\, Chiang Mai\, Chiang Mai\, 50230\, Thailand
ATTACH;FMTTYPE=image/jpeg:https://dharmacourse.com/wp-content/uploads/2024/10/nov-retreat.jpg
ORGANIZER;CN="Dharma Course":MAILTO:contact@dharmacourse.com
END:VEVENT
BEGIN:VEVENT
DTSTART;TZID=Asia/Krasnoyarsk:20241026T090000
DTEND;TZID=Asia/Krasnoyarsk:20241026T110000
DTSTAMP:20260423T003218
CREATED:20241023T173724Z
LAST-MODIFIED:20250920T062006Z
UID:2080-1729933200-1729940400@dharmacourse.com
SUMMARY:Saturday Reading Club - Do a Good Karma\, Help Someone in Need
DESCRIPTION:    If in this lifetime there are no immediate karmic consequences of heavy virtuous or non-virtuous actions\, then the experiences and circumstances of this life are mostly influenced by past life karma. Therefore\, instead of indulging in fantasies or complaints\, one should analyze the causes of the defects in this life\, thereby refraining from evil and doing good\, thus creating opportunities for happiness in this life and the next.    ONE DAY ZEN | Event in Chiang Mai Website: https://dharmacourse.com/Instagram: https://www.instagram.com/dharmacourse/Facebook: https://www.facebook.com/BlissHouseChiangmaiMeditation
URL:https://dharmacourse.com/event/event-saturday-reading-club-do-a-good-karma-help-someone-in-need/
LOCATION:Dharma Course\, Dharma Course\, Chiang Mai\, Chiang Mai\, 50230\, Thailand
ATTACH;FMTTYPE=image/jpeg:https://dharmacourse.com/wp-content/uploads/2024/10/Bliss-House-Chiang-Mai-Poster-Reading-Event.jpg
ORGANIZER;CN="Dharma Course":MAILTO:contact@dharmacourse.com
END:VEVENT
BEGIN:VEVENT
DTSTART;TZID=Asia/Krasnoyarsk:20241008T090000
DTEND;TZID=Asia/Krasnoyarsk:20241008T170000
DTSTAMP:20260423T003218
CREATED:20241023T173821Z
LAST-MODIFIED:20250920T062013Z
UID:2082-1728378000-1728406800@dharmacourse.com
SUMMARY:One Day to Boost Energy Level - ONE DAY ZEN
DESCRIPTION:    If in this lifetime there are no immediate karmic consequences of heavy virtuous or non-virtuous actions\, then the experiences and circumstances of this life are mostly influenced by past life karma. Therefore\, instead of indulging in fantasies or complaints\, one should analyze the causes of the defects in this life\, thereby refraining from evil and doing good\, thus creating opportunities for happiness in this life and the next.    ONE DAY ZEN | Event in Chiang Mai Website: https://dharmacourse.com/Instagram: https://www.instagram.com/dharmacourse/Facebook: https://www.facebook.com/BlissHouseChiangmaiMeditation
URL:https://dharmacourse.com/event/event-one-day-to-boost-energy-level-one-day-zen/
LOCATION:Dharma Course\, Dharma Course\, Chiang Mai\, Chiang Mai\, 50230\, Thailand
ATTACH;FMTTYPE=image/jpeg:https://dharmacourse.com/wp-content/uploads/2024/09/WhatsApp-Image-2024-10-19-at-5.52.49-PM.jpeg
ORGANIZER;CN="Dharma Course":MAILTO:contact@dharmacourse.com
END:VEVENT
END:VCALENDAR